BEGIN:VCALENDAR
VERSION:2.0
PRODID:-//City of Somerset, Kentucky - ECPv6.15.20//NONSGML v1.0//EN
CALSCALE:GREGORIAN
METHOD:PUBLISH
X-WR-CALNAME:City of Somerset, Kentucky
X-ORIGINAL-URL:https://www.cityofsomerset.com
X-WR-CALDESC:Events for City of Somerset, Kentucky
REFRESH-INTERVAL;VALUE=DURATION:PT1H
X-Robots-Tag:noindex
X-PUBLISHED-TTL:PT1H
BEGIN:VTIMEZONE
TZID:America/New_York
BEGIN:DAYLIGHT
TZOFFSETFROM:-0500
TZOFFSETTO:-0400
TZNAME:EDT
DTSTART:20200308T070000
END:DAYLIGHT
BEGIN:STANDARD
TZOFFSETFROM:-0400
TZOFFSETTO:-0500
TZNAME:EST
DTSTART:20201101T060000
END:STANDARD
BEGIN:DAYLIGHT
TZOFFSETFROM:-0500
TZOFFSETTO:-0400
TZNAME:EDT
DTSTART:20210314T070000
END:DAYLIGHT
BEGIN:STANDARD
TZOFFSETFROM:-0400
TZOFFSETTO:-0500
TZNAME:EST
DTSTART:20211107T060000
END:STANDARD
BEGIN:DAYLIGHT
TZOFFSETFROM:-0500
TZOFFSETTO:-0400
TZNAME:EDT
DTSTART:20220313T070000
END:DAYLIGHT
BEGIN:STANDARD
TZOFFSETFROM:-0400
TZOFFSETTO:-0500
TZNAME:EST
DTSTART:20221106T060000
END:STANDARD
END:VTIMEZONE
BEGIN:VEVENT
DTSTART;TZID=America/New_York:20210410T080000
DTEND;TZID=America/New_York:20210410T140000
DTSTAMP:20260420T033401
CREATED:20210503T145936Z
LAST-MODIFIED:20210625T132510Z
UID:10000648-1618041600-1618063200@www.cityofsomerset.com
SUMMARY:Market Open
DESCRIPTION:The Lake Cumberland Farmers Market at Citizens National Bank Pavilion is a community gathering place dedicated to supporting local farmers\, producers\, and artisans by providing a marketing connection to area consumers. We are committed to promoting environmental and economic sustainability. \nLocated in downtown Somerset on East Mt. Vernon Street across from the Energy Center\, the Citizens National Bank Pavilion is a new facility that will allow vendors to set up indoors or outdoors throughout the year. It will accommodate up to 50 vendors\, and those vendors will have the option to be open daily throughout the year. Patrons will find everything from produce and flowers\, to meat\, cheese\, wine\, soaps\, and even a limited selection of crafts.
URL:https://www.cityofsomerset.com/event/market-open/2021-04-10/
LOCATION:Citizens National Bank Pavilion\, 401 E. Mt. Vernon St.\, Somerset\, 42501
CATEGORIES:CNB Pavilion
ATTACH;FMTTYPE=image/jpeg:https://www.cityofsomerset.com/wp-content/uploads/2021/05/Market-aerial-2000x1200-1.jpg
ORGANIZER;CN="Lake Cumberland Farmers Market":MAILTO:jcarroll@cityofsomerset.com
END:VEVENT
BEGIN:VEVENT
DTSTART;TZID=America/New_York:20210414T090000
DTEND;TZID=America/New_York:20210414T130000
DTSTAMP:20260420T033401
CREATED:20240131T192216Z
LAST-MODIFIED:20240131T192216Z
UID:10000677-1618390800-1618405200@www.cityofsomerset.com
SUMMARY:Market Open
DESCRIPTION:The Lake Cumberland Farmers Market at Citizens National Bank Pavilion is a community gathering place dedicated to supporting local farmers\, producers\, and artisans by providing a marketing connection to area consumers. We are committed to promoting environmental and economic sustainability. \nLocated in downtown Somerset on East Mt. Vernon Street across from the Energy Center\, the Citizens National Bank Pavilion is a new facility that will allow vendors to set up indoors or outdoors throughout the year. It will accommodate up to 50 vendors\, and those vendors will have the option to be open daily throughout the year. Patrons will find everything from produce and flowers\, to meat\, cheese\, wine\, soaps\, and even a limited selection of crafts.
URL:https://www.cityofsomerset.com/event/market-open/2021-04-14/
LOCATION:Citizens National Bank Pavilion\, 401 E. Mt. Vernon St.\, Somerset\, 42501
CATEGORIES:CNB Pavilion
ATTACH;FMTTYPE=image/jpeg:https://www.cityofsomerset.com/wp-content/uploads/2021/05/Market-aerial-2000x1200-1.jpg
ORGANIZER;CN="Lake Cumberland Farmers Market":MAILTO:jcarroll@cityofsomerset.com
END:VEVENT
BEGIN:VEVENT
DTSTART;TZID=America/New_York:20210417T080000
DTEND;TZID=America/New_York:20210417T140000
DTSTAMP:20260420T033401
CREATED:20210503T145936Z
LAST-MODIFIED:20210625T132510Z
UID:10000649-1618646400-1618668000@www.cityofsomerset.com
SUMMARY:Market Open
DESCRIPTION:The Lake Cumberland Farmers Market at Citizens National Bank Pavilion is a community gathering place dedicated to supporting local farmers\, producers\, and artisans by providing a marketing connection to area consumers. We are committed to promoting environmental and economic sustainability. \nLocated in downtown Somerset on East Mt. Vernon Street across from the Energy Center\, the Citizens National Bank Pavilion is a new facility that will allow vendors to set up indoors or outdoors throughout the year. It will accommodate up to 50 vendors\, and those vendors will have the option to be open daily throughout the year. Patrons will find everything from produce and flowers\, to meat\, cheese\, wine\, soaps\, and even a limited selection of crafts.
URL:https://www.cityofsomerset.com/event/market-open/2021-04-17/
LOCATION:Citizens National Bank Pavilion\, 401 E. Mt. Vernon St.\, Somerset\, 42501
CATEGORIES:CNB Pavilion
ATTACH;FMTTYPE=image/jpeg:https://www.cityofsomerset.com/wp-content/uploads/2021/05/Market-aerial-2000x1200-1.jpg
ORGANIZER;CN="Lake Cumberland Farmers Market":MAILTO:jcarroll@cityofsomerset.com
END:VEVENT
BEGIN:VEVENT
DTSTART;TZID=America/New_York:20210421T090000
DTEND;TZID=America/New_York:20210421T130000
DTSTAMP:20260420T033401
CREATED:20240131T192216Z
LAST-MODIFIED:20240131T192216Z
UID:10000678-1618995600-1619010000@www.cityofsomerset.com
SUMMARY:Market Open
DESCRIPTION:The Lake Cumberland Farmers Market at Citizens National Bank Pavilion is a community gathering place dedicated to supporting local farmers\, producers\, and artisans by providing a marketing connection to area consumers. We are committed to promoting environmental and economic sustainability. \nLocated in downtown Somerset on East Mt. Vernon Street across from the Energy Center\, the Citizens National Bank Pavilion is a new facility that will allow vendors to set up indoors or outdoors throughout the year. It will accommodate up to 50 vendors\, and those vendors will have the option to be open daily throughout the year. Patrons will find everything from produce and flowers\, to meat\, cheese\, wine\, soaps\, and even a limited selection of crafts.
URL:https://www.cityofsomerset.com/event/market-open/2021-04-21/
LOCATION:Citizens National Bank Pavilion\, 401 E. Mt. Vernon St.\, Somerset\, 42501
CATEGORIES:CNB Pavilion
ATTACH;FMTTYPE=image/jpeg:https://www.cityofsomerset.com/wp-content/uploads/2021/05/Market-aerial-2000x1200-1.jpg
ORGANIZER;CN="Lake Cumberland Farmers Market":MAILTO:jcarroll@cityofsomerset.com
END:VEVENT
BEGIN:VEVENT
DTSTART;TZID=America/New_York:20210424T080000
DTEND;TZID=America/New_York:20210424T140000
DTSTAMP:20260420T033401
CREATED:20210503T145936Z
LAST-MODIFIED:20210625T132510Z
UID:10000650-1619251200-1619272800@www.cityofsomerset.com
SUMMARY:Market Open
DESCRIPTION:The Lake Cumberland Farmers Market at Citizens National Bank Pavilion is a community gathering place dedicated to supporting local farmers\, producers\, and artisans by providing a marketing connection to area consumers. We are committed to promoting environmental and economic sustainability. \nLocated in downtown Somerset on East Mt. Vernon Street across from the Energy Center\, the Citizens National Bank Pavilion is a new facility that will allow vendors to set up indoors or outdoors throughout the year. It will accommodate up to 50 vendors\, and those vendors will have the option to be open daily throughout the year. Patrons will find everything from produce and flowers\, to meat\, cheese\, wine\, soaps\, and even a limited selection of crafts.
URL:https://www.cityofsomerset.com/event/market-open/2021-04-24/
LOCATION:Citizens National Bank Pavilion\, 401 E. Mt. Vernon St.\, Somerset\, 42501
CATEGORIES:CNB Pavilion
ATTACH;FMTTYPE=image/jpeg:https://www.cityofsomerset.com/wp-content/uploads/2021/05/Market-aerial-2000x1200-1.jpg
ORGANIZER;CN="Lake Cumberland Farmers Market":MAILTO:jcarroll@cityofsomerset.com
END:VEVENT
BEGIN:VEVENT
DTSTART;TZID=America/New_York:20210428T090000
DTEND;TZID=America/New_York:20210428T130000
DTSTAMP:20260420T033401
CREATED:20240131T192216Z
LAST-MODIFIED:20240131T192216Z
UID:10000679-1619600400-1619614800@www.cityofsomerset.com
SUMMARY:Market Open
DESCRIPTION:The Lake Cumberland Farmers Market at Citizens National Bank Pavilion is a community gathering place dedicated to supporting local farmers\, producers\, and artisans by providing a marketing connection to area consumers. We are committed to promoting environmental and economic sustainability. \nLocated in downtown Somerset on East Mt. Vernon Street across from the Energy Center\, the Citizens National Bank Pavilion is a new facility that will allow vendors to set up indoors or outdoors throughout the year. It will accommodate up to 50 vendors\, and those vendors will have the option to be open daily throughout the year. Patrons will find everything from produce and flowers\, to meat\, cheese\, wine\, soaps\, and even a limited selection of crafts.
URL:https://www.cityofsomerset.com/event/market-open/2021-04-28/
LOCATION:Citizens National Bank Pavilion\, 401 E. Mt. Vernon St.\, Somerset\, 42501
CATEGORIES:CNB Pavilion
ATTACH;FMTTYPE=image/jpeg:https://www.cityofsomerset.com/wp-content/uploads/2021/05/Market-aerial-2000x1200-1.jpg
ORGANIZER;CN="Lake Cumberland Farmers Market":MAILTO:jcarroll@cityofsomerset.com
END:VEVENT
END:VCALENDAR