BEGIN:VCALENDAR
VERSION:2.0
PRODID:-//City of Somerset, Kentucky - ECPv6.15.20//NONSGML v1.0//EN
CALSCALE:GREGORIAN
METHOD:PUBLISH
X-WR-CALNAME:City of Somerset, Kentucky
X-ORIGINAL-URL:https://www.cityofsomerset.com
X-WR-CALDESC:Events for City of Somerset, Kentucky
REFRESH-INTERVAL;VALUE=DURATION:PT1H
X-Robots-Tag:noindex
X-PUBLISHED-TTL:PT1H
BEGIN:VTIMEZONE
TZID:America/New_York
BEGIN:DAYLIGHT
TZOFFSETFROM:-0500
TZOFFSETTO:-0400
TZNAME:EDT
DTSTART:20200308T070000
END:DAYLIGHT
BEGIN:STANDARD
TZOFFSETFROM:-0400
TZOFFSETTO:-0500
TZNAME:EST
DTSTART:20201101T060000
END:STANDARD
BEGIN:DAYLIGHT
TZOFFSETFROM:-0500
TZOFFSETTO:-0400
TZNAME:EDT
DTSTART:20210314T070000
END:DAYLIGHT
BEGIN:STANDARD
TZOFFSETFROM:-0400
TZOFFSETTO:-0500
TZNAME:EST
DTSTART:20211107T060000
END:STANDARD
BEGIN:DAYLIGHT
TZOFFSETFROM:-0500
TZOFFSETTO:-0400
TZNAME:EDT
DTSTART:20220313T070000
END:DAYLIGHT
BEGIN:STANDARD
TZOFFSETFROM:-0400
TZOFFSETTO:-0500
TZNAME:EST
DTSTART:20221106T060000
END:STANDARD
END:VTIMEZONE
BEGIN:VEVENT
DTSTART;TZID=America/New_York:20210703T080000
DTEND;TZID=America/New_York:20210703T140000
DTSTAMP:20260419T210820
CREATED:20210503T145936Z
LAST-MODIFIED:20210625T132510Z
UID:10000660-1625299200-1625320800@www.cityofsomerset.com
SUMMARY:Market Open
DESCRIPTION:The Lake Cumberland Farmers Market at Citizens National Bank Pavilion is a community gathering place dedicated to supporting local farmers\, producers\, and artisans by providing a marketing connection to area consumers. We are committed to promoting environmental and economic sustainability. \nLocated in downtown Somerset on East Mt. Vernon Street across from the Energy Center\, the Citizens National Bank Pavilion is a new facility that will allow vendors to set up indoors or outdoors throughout the year. It will accommodate up to 50 vendors\, and those vendors will have the option to be open daily throughout the year. Patrons will find everything from produce and flowers\, to meat\, cheese\, wine\, soaps\, and even a limited selection of crafts.
URL:https://www.cityofsomerset.com/event/market-open/2021-07-03/
LOCATION:Citizens National Bank Pavilion\, 401 E. Mt. Vernon St.\, Somerset\, 42501
CATEGORIES:CNB Pavilion
ATTACH;FMTTYPE=image/jpeg:https://www.cityofsomerset.com/wp-content/uploads/2021/05/Market-aerial-2000x1200-1.jpg
ORGANIZER;CN="Lake Cumberland Farmers Market":MAILTO:jcarroll@cityofsomerset.com
END:VEVENT
BEGIN:VEVENT
DTSTART;TZID=America/New_York:20210707T090000
DTEND;TZID=America/New_York:20210707T130000
DTSTAMP:20260419T210820
CREATED:20240131T192216Z
LAST-MODIFIED:20240131T192216Z
UID:10000689-1625648400-1625662800@www.cityofsomerset.com
SUMMARY:Market Open
DESCRIPTION:The Lake Cumberland Farmers Market at Citizens National Bank Pavilion is a community gathering place dedicated to supporting local farmers\, producers\, and artisans by providing a marketing connection to area consumers. We are committed to promoting environmental and economic sustainability. \nLocated in downtown Somerset on East Mt. Vernon Street across from the Energy Center\, the Citizens National Bank Pavilion is a new facility that will allow vendors to set up indoors or outdoors throughout the year. It will accommodate up to 50 vendors\, and those vendors will have the option to be open daily throughout the year. Patrons will find everything from produce and flowers\, to meat\, cheese\, wine\, soaps\, and even a limited selection of crafts.
URL:https://www.cityofsomerset.com/event/market-open/2021-07-07/
LOCATION:Citizens National Bank Pavilion\, 401 E. Mt. Vernon St.\, Somerset\, 42501
CATEGORIES:CNB Pavilion
ATTACH;FMTTYPE=image/jpeg:https://www.cityofsomerset.com/wp-content/uploads/2021/05/Market-aerial-2000x1200-1.jpg
ORGANIZER;CN="Lake Cumberland Farmers Market":MAILTO:jcarroll@cityofsomerset.com
END:VEVENT
BEGIN:VEVENT
DTSTART;TZID=America/New_York:20210710T080000
DTEND;TZID=America/New_York:20210710T140000
DTSTAMP:20260419T210820
CREATED:20210503T145936Z
LAST-MODIFIED:20210625T132510Z
UID:10000661-1625904000-1625925600@www.cityofsomerset.com
SUMMARY:Market Open
DESCRIPTION:The Lake Cumberland Farmers Market at Citizens National Bank Pavilion is a community gathering place dedicated to supporting local farmers\, producers\, and artisans by providing a marketing connection to area consumers. We are committed to promoting environmental and economic sustainability. \nLocated in downtown Somerset on East Mt. Vernon Street across from the Energy Center\, the Citizens National Bank Pavilion is a new facility that will allow vendors to set up indoors or outdoors throughout the year. It will accommodate up to 50 vendors\, and those vendors will have the option to be open daily throughout the year. Patrons will find everything from produce and flowers\, to meat\, cheese\, wine\, soaps\, and even a limited selection of crafts.
URL:https://www.cityofsomerset.com/event/market-open/2021-07-10/
LOCATION:Citizens National Bank Pavilion\, 401 E. Mt. Vernon St.\, Somerset\, 42501
CATEGORIES:CNB Pavilion
ATTACH;FMTTYPE=image/jpeg:https://www.cityofsomerset.com/wp-content/uploads/2021/05/Market-aerial-2000x1200-1.jpg
ORGANIZER;CN="Lake Cumberland Farmers Market":MAILTO:jcarroll@cityofsomerset.com
END:VEVENT
BEGIN:VEVENT
DTSTART;TZID=America/New_York:20210714T090000
DTEND;TZID=America/New_York:20210714T130000
DTSTAMP:20260419T210820
CREATED:20240131T192216Z
LAST-MODIFIED:20240131T192216Z
UID:10000690-1626253200-1626267600@www.cityofsomerset.com
SUMMARY:Market Open
DESCRIPTION:The Lake Cumberland Farmers Market at Citizens National Bank Pavilion is a community gathering place dedicated to supporting local farmers\, producers\, and artisans by providing a marketing connection to area consumers. We are committed to promoting environmental and economic sustainability. \nLocated in downtown Somerset on East Mt. Vernon Street across from the Energy Center\, the Citizens National Bank Pavilion is a new facility that will allow vendors to set up indoors or outdoors throughout the year. It will accommodate up to 50 vendors\, and those vendors will have the option to be open daily throughout the year. Patrons will find everything from produce and flowers\, to meat\, cheese\, wine\, soaps\, and even a limited selection of crafts.
URL:https://www.cityofsomerset.com/event/market-open/2021-07-14/
LOCATION:Citizens National Bank Pavilion\, 401 E. Mt. Vernon St.\, Somerset\, 42501
CATEGORIES:CNB Pavilion
ATTACH;FMTTYPE=image/jpeg:https://www.cityofsomerset.com/wp-content/uploads/2021/05/Market-aerial-2000x1200-1.jpg
ORGANIZER;CN="Lake Cumberland Farmers Market":MAILTO:jcarroll@cityofsomerset.com
END:VEVENT
BEGIN:VEVENT
DTSTART;TZID=America/New_York:20210717T080000
DTEND;TZID=America/New_York:20210717T140000
DTSTAMP:20260419T210820
CREATED:20210503T145936Z
LAST-MODIFIED:20210625T132510Z
UID:10000662-1626508800-1626530400@www.cityofsomerset.com
SUMMARY:Market Open
DESCRIPTION:The Lake Cumberland Farmers Market at Citizens National Bank Pavilion is a community gathering place dedicated to supporting local farmers\, producers\, and artisans by providing a marketing connection to area consumers. We are committed to promoting environmental and economic sustainability. \nLocated in downtown Somerset on East Mt. Vernon Street across from the Energy Center\, the Citizens National Bank Pavilion is a new facility that will allow vendors to set up indoors or outdoors throughout the year. It will accommodate up to 50 vendors\, and those vendors will have the option to be open daily throughout the year. Patrons will find everything from produce and flowers\, to meat\, cheese\, wine\, soaps\, and even a limited selection of crafts.
URL:https://www.cityofsomerset.com/event/market-open/2021-07-17/
LOCATION:Citizens National Bank Pavilion\, 401 E. Mt. Vernon St.\, Somerset\, 42501
CATEGORIES:CNB Pavilion
ATTACH;FMTTYPE=image/jpeg:https://www.cityofsomerset.com/wp-content/uploads/2021/05/Market-aerial-2000x1200-1.jpg
ORGANIZER;CN="Lake Cumberland Farmers Market":MAILTO:jcarroll@cityofsomerset.com
END:VEVENT
BEGIN:VEVENT
DTSTART;TZID=America/New_York:20210721T090000
DTEND;TZID=America/New_York:20210721T130000
DTSTAMP:20260419T210820
CREATED:20240131T192216Z
LAST-MODIFIED:20240131T192216Z
UID:10000691-1626858000-1626872400@www.cityofsomerset.com
SUMMARY:Market Open
DESCRIPTION:The Lake Cumberland Farmers Market at Citizens National Bank Pavilion is a community gathering place dedicated to supporting local farmers\, producers\, and artisans by providing a marketing connection to area consumers. We are committed to promoting environmental and economic sustainability. \nLocated in downtown Somerset on East Mt. Vernon Street across from the Energy Center\, the Citizens National Bank Pavilion is a new facility that will allow vendors to set up indoors or outdoors throughout the year. It will accommodate up to 50 vendors\, and those vendors will have the option to be open daily throughout the year. Patrons will find everything from produce and flowers\, to meat\, cheese\, wine\, soaps\, and even a limited selection of crafts.
URL:https://www.cityofsomerset.com/event/market-open/2021-07-21/
LOCATION:Citizens National Bank Pavilion\, 401 E. Mt. Vernon St.\, Somerset\, 42501
CATEGORIES:CNB Pavilion
ATTACH;FMTTYPE=image/jpeg:https://www.cityofsomerset.com/wp-content/uploads/2021/05/Market-aerial-2000x1200-1.jpg
ORGANIZER;CN="Lake Cumberland Farmers Market":MAILTO:jcarroll@cityofsomerset.com
END:VEVENT
BEGIN:VEVENT
DTSTART;TZID=America/New_York:20210724T080000
DTEND;TZID=America/New_York:20210724T140000
DTSTAMP:20260419T210820
CREATED:20210503T145936Z
LAST-MODIFIED:20210625T132510Z
UID:10000663-1627113600-1627135200@www.cityofsomerset.com
SUMMARY:Market Open
DESCRIPTION:The Lake Cumberland Farmers Market at Citizens National Bank Pavilion is a community gathering place dedicated to supporting local farmers\, producers\, and artisans by providing a marketing connection to area consumers. We are committed to promoting environmental and economic sustainability. \nLocated in downtown Somerset on East Mt. Vernon Street across from the Energy Center\, the Citizens National Bank Pavilion is a new facility that will allow vendors to set up indoors or outdoors throughout the year. It will accommodate up to 50 vendors\, and those vendors will have the option to be open daily throughout the year. Patrons will find everything from produce and flowers\, to meat\, cheese\, wine\, soaps\, and even a limited selection of crafts.
URL:https://www.cityofsomerset.com/event/market-open/2021-07-24/
LOCATION:Citizens National Bank Pavilion\, 401 E. Mt. Vernon St.\, Somerset\, 42501
CATEGORIES:CNB Pavilion
ATTACH;FMTTYPE=image/jpeg:https://www.cityofsomerset.com/wp-content/uploads/2021/05/Market-aerial-2000x1200-1.jpg
ORGANIZER;CN="Lake Cumberland Farmers Market":MAILTO:jcarroll@cityofsomerset.com
END:VEVENT
BEGIN:VEVENT
DTSTART;TZID=America/New_York:20210728T090000
DTEND;TZID=America/New_York:20210728T130000
DTSTAMP:20260419T210820
CREATED:20240131T192216Z
LAST-MODIFIED:20240131T192216Z
UID:10000692-1627462800-1627477200@www.cityofsomerset.com
SUMMARY:Market Open
DESCRIPTION:The Lake Cumberland Farmers Market at Citizens National Bank Pavilion is a community gathering place dedicated to supporting local farmers\, producers\, and artisans by providing a marketing connection to area consumers. We are committed to promoting environmental and economic sustainability. \nLocated in downtown Somerset on East Mt. Vernon Street across from the Energy Center\, the Citizens National Bank Pavilion is a new facility that will allow vendors to set up indoors or outdoors throughout the year. It will accommodate up to 50 vendors\, and those vendors will have the option to be open daily throughout the year. Patrons will find everything from produce and flowers\, to meat\, cheese\, wine\, soaps\, and even a limited selection of crafts.
URL:https://www.cityofsomerset.com/event/market-open/2021-07-28/
LOCATION:Citizens National Bank Pavilion\, 401 E. Mt. Vernon St.\, Somerset\, 42501
CATEGORIES:CNB Pavilion
ATTACH;FMTTYPE=image/jpeg:https://www.cityofsomerset.com/wp-content/uploads/2021/05/Market-aerial-2000x1200-1.jpg
ORGANIZER;CN="Lake Cumberland Farmers Market":MAILTO:jcarroll@cityofsomerset.com
END:VEVENT
BEGIN:VEVENT
DTSTART;TZID=America/New_York:20210731T080000
DTEND;TZID=America/New_York:20210731T140000
DTSTAMP:20260419T210820
CREATED:20210503T145936Z
LAST-MODIFIED:20210625T132510Z
UID:10000664-1627718400-1627740000@www.cityofsomerset.com
SUMMARY:Market Open
DESCRIPTION:The Lake Cumberland Farmers Market at Citizens National Bank Pavilion is a community gathering place dedicated to supporting local farmers\, producers\, and artisans by providing a marketing connection to area consumers. We are committed to promoting environmental and economic sustainability. \nLocated in downtown Somerset on East Mt. Vernon Street across from the Energy Center\, the Citizens National Bank Pavilion is a new facility that will allow vendors to set up indoors or outdoors throughout the year. It will accommodate up to 50 vendors\, and those vendors will have the option to be open daily throughout the year. Patrons will find everything from produce and flowers\, to meat\, cheese\, wine\, soaps\, and even a limited selection of crafts.
URL:https://www.cityofsomerset.com/event/market-open/2021-07-31/
LOCATION:Citizens National Bank Pavilion\, 401 E. Mt. Vernon St.\, Somerset\, 42501
CATEGORIES:CNB Pavilion
ATTACH;FMTTYPE=image/jpeg:https://www.cityofsomerset.com/wp-content/uploads/2021/05/Market-aerial-2000x1200-1.jpg
ORGANIZER;CN="Lake Cumberland Farmers Market":MAILTO:jcarroll@cityofsomerset.com
END:VEVENT
END:VCALENDAR