BEGIN:VCALENDAR
VERSION:2.0
PRODID:-//City of Somerset, Kentucky - ECPv6.15.20//NONSGML v1.0//EN
CALSCALE:GREGORIAN
METHOD:PUBLISH
X-ORIGINAL-URL:https://www.cityofsomerset.com
X-WR-CALDESC:Events for City of Somerset, Kentucky
REFRESH-INTERVAL;VALUE=DURATION:PT1H
X-Robots-Tag:noindex
X-PUBLISHED-TTL:PT1H
BEGIN:VTIMEZONE
TZID:America/New_York
BEGIN:DAYLIGHT
TZOFFSETFROM:-0500
TZOFFSETTO:-0400
TZNAME:EDT
DTSTART:20200308T070000
END:DAYLIGHT
BEGIN:STANDARD
TZOFFSETFROM:-0400
TZOFFSETTO:-0500
TZNAME:EST
DTSTART:20201101T060000
END:STANDARD
BEGIN:DAYLIGHT
TZOFFSETFROM:-0500
TZOFFSETTO:-0400
TZNAME:EDT
DTSTART:20210314T070000
END:DAYLIGHT
BEGIN:STANDARD
TZOFFSETFROM:-0400
TZOFFSETTO:-0500
TZNAME:EST
DTSTART:20211107T060000
END:STANDARD
BEGIN:DAYLIGHT
TZOFFSETFROM:-0500
TZOFFSETTO:-0400
TZNAME:EDT
DTSTART:20220313T070000
END:DAYLIGHT
BEGIN:STANDARD
TZOFFSETFROM:-0400
TZOFFSETTO:-0500
TZNAME:EST
DTSTART:20221106T060000
END:STANDARD
END:VTIMEZONE
BEGIN:VEVENT
DTSTART;TZID=America/New_York:20210901T090000
DTEND;TZID=America/New_York:20210901T130000
DTSTAMP:20260419T171531
CREATED:20240131T192216Z
LAST-MODIFIED:20240131T192216Z
UID:10000697-1630486800-1630501200@www.cityofsomerset.com
SUMMARY:Market Open
DESCRIPTION:The Lake Cumberland Farmers Market at Citizens National Bank Pavilion is a community gathering place dedicated to supporting local farmers\, producers\, and artisans by providing a marketing connection to area consumers. We are committed to promoting environmental and economic sustainability. \nLocated in downtown Somerset on East Mt. Vernon Street across from the Energy Center\, the Citizens National Bank Pavilion is a new facility that will allow vendors to set up indoors or outdoors throughout the year. It will accommodate up to 50 vendors\, and those vendors will have the option to be open daily throughout the year. Patrons will find everything from produce and flowers\, to meat\, cheese\, wine\, soaps\, and even a limited selection of crafts.
URL:https://www.cityofsomerset.com/event/market-open/2021-09-01/
LOCATION:Citizens National Bank Pavilion\, 401 E. Mt. Vernon St.\, Somerset\, 42501
CATEGORIES:CNB Pavilion
ATTACH;FMTTYPE=image/jpeg:https://www.cityofsomerset.com/wp-content/uploads/2021/05/Market-aerial-2000x1200-1.jpg
ORGANIZER;CN="Lake Cumberland Farmers Market":MAILTO:jcarroll@cityofsomerset.com
END:VEVENT
BEGIN:VEVENT
DTSTART;TZID=America/New_York:20210903T190000
DTEND;TZID=America/New_York:20210903T190000
DTSTAMP:20260419T171531
CREATED:20210503T151343Z
LAST-MODIFIED:20210902T193650Z
UID:10000702-1630695600-1630695600@www.cityofsomerset.com
SUMMARY:Friday Night Live @ The Market with The Catdaddies
DESCRIPTION:Kick-off the weekend at the Lake Cumberland Farmers Market with local music\, spirits and food. Bring a chair and listen to the Catdaddies\, a local band that plays a mix of original tunes and “deep cuts” covers. They will begin playing at 7 p.m. Friday\, Sept. 3!
URL:https://www.cityofsomerset.com/event/friday-night-live-the-market-2021-06-07-2021-09-03/
CATEGORIES:CNB Pavilion
ORGANIZER;CN="Lake Cumberland Farmers Market":MAILTO:jcarroll@cityofsomerset.com
END:VEVENT
BEGIN:VEVENT
DTSTART;TZID=America/New_York:20210904T080000
DTEND;TZID=America/New_York:20210904T140000
DTSTAMP:20260419T171531
CREATED:20210503T145936Z
LAST-MODIFIED:20210625T132510Z
UID:10000669-1630742400-1630764000@www.cityofsomerset.com
SUMMARY:Market Open
DESCRIPTION:The Lake Cumberland Farmers Market at Citizens National Bank Pavilion is a community gathering place dedicated to supporting local farmers\, producers\, and artisans by providing a marketing connection to area consumers. We are committed to promoting environmental and economic sustainability. \nLocated in downtown Somerset on East Mt. Vernon Street across from the Energy Center\, the Citizens National Bank Pavilion is a new facility that will allow vendors to set up indoors or outdoors throughout the year. It will accommodate up to 50 vendors\, and those vendors will have the option to be open daily throughout the year. Patrons will find everything from produce and flowers\, to meat\, cheese\, wine\, soaps\, and even a limited selection of crafts.
URL:https://www.cityofsomerset.com/event/market-open/2021-09-04/
LOCATION:Citizens National Bank Pavilion\, 401 E. Mt. Vernon St.\, Somerset\, 42501
CATEGORIES:CNB Pavilion
ATTACH;FMTTYPE=image/jpeg:https://www.cityofsomerset.com/wp-content/uploads/2021/05/Market-aerial-2000x1200-1.jpg
ORGANIZER;CN="Lake Cumberland Farmers Market":MAILTO:jcarroll@cityofsomerset.com
END:VEVENT
BEGIN:VEVENT
DTSTART;TZID=America/New_York:20210908T090000
DTEND;TZID=America/New_York:20210908T130000
DTSTAMP:20260419T171531
CREATED:20240131T192216Z
LAST-MODIFIED:20240131T192216Z
UID:10000698-1631091600-1631106000@www.cityofsomerset.com
SUMMARY:Market Open
DESCRIPTION:The Lake Cumberland Farmers Market at Citizens National Bank Pavilion is a community gathering place dedicated to supporting local farmers\, producers\, and artisans by providing a marketing connection to area consumers. We are committed to promoting environmental and economic sustainability. \nLocated in downtown Somerset on East Mt. Vernon Street across from the Energy Center\, the Citizens National Bank Pavilion is a new facility that will allow vendors to set up indoors or outdoors throughout the year. It will accommodate up to 50 vendors\, and those vendors will have the option to be open daily throughout the year. Patrons will find everything from produce and flowers\, to meat\, cheese\, wine\, soaps\, and even a limited selection of crafts.
URL:https://www.cityofsomerset.com/event/market-open/2021-09-08/
LOCATION:Citizens National Bank Pavilion\, 401 E. Mt. Vernon St.\, Somerset\, 42501
CATEGORIES:CNB Pavilion
ATTACH;FMTTYPE=image/jpeg:https://www.cityofsomerset.com/wp-content/uploads/2021/05/Market-aerial-2000x1200-1.jpg
ORGANIZER;CN="Lake Cumberland Farmers Market":MAILTO:jcarroll@cityofsomerset.com
END:VEVENT
BEGIN:VEVENT
DTSTART;TZID=America/New_York:20210911T080000
DTEND;TZID=America/New_York:20210911T140000
DTSTAMP:20260419T171531
CREATED:20210503T145936Z
LAST-MODIFIED:20210625T132510Z
UID:10000670-1631347200-1631368800@www.cityofsomerset.com
SUMMARY:Market Open
DESCRIPTION:The Lake Cumberland Farmers Market at Citizens National Bank Pavilion is a community gathering place dedicated to supporting local farmers\, producers\, and artisans by providing a marketing connection to area consumers. We are committed to promoting environmental and economic sustainability. \nLocated in downtown Somerset on East Mt. Vernon Street across from the Energy Center\, the Citizens National Bank Pavilion is a new facility that will allow vendors to set up indoors or outdoors throughout the year. It will accommodate up to 50 vendors\, and those vendors will have the option to be open daily throughout the year. Patrons will find everything from produce and flowers\, to meat\, cheese\, wine\, soaps\, and even a limited selection of crafts.
URL:https://www.cityofsomerset.com/event/market-open/2021-09-11/
LOCATION:Citizens National Bank Pavilion\, 401 E. Mt. Vernon St.\, Somerset\, 42501
CATEGORIES:CNB Pavilion
ATTACH;FMTTYPE=image/jpeg:https://www.cityofsomerset.com/wp-content/uploads/2021/05/Market-aerial-2000x1200-1.jpg
ORGANIZER;CN="Lake Cumberland Farmers Market":MAILTO:jcarroll@cityofsomerset.com
END:VEVENT
BEGIN:VEVENT
DTSTART;TZID=America/New_York:20210911T150000
DTEND;TZID=America/New_York:20210911T180000
DTSTAMP:20260419T171531
CREATED:20210818T200353Z
LAST-MODIFIED:20210818T200411Z
UID:10000561-1631372400-1631383200@www.cityofsomerset.com
SUMMARY:Pavilion Reserved: Private Event
DESCRIPTION:
URL:https://www.cityofsomerset.com/event/pavilion-reserved-private-event-20/
LOCATION:Citizens National Bank Pavilion\, 401 E. Mt. Vernon St.\, Somerset\, 42501
CATEGORIES:CNB Pavilion
ATTACH;FMTTYPE=image/jpeg:https://www.cityofsomerset.com/wp-content/uploads/2021/05/LCFM-building-web-2000.jpg
END:VEVENT
BEGIN:VEVENT
DTSTART;TZID=America/New_York:20210914T140000
DTEND;TZID=America/New_York:20210914T183000
DTSTAMP:20260419T171531
CREATED:20210912T172034Z
LAST-MODIFIED:20211005T164308Z
UID:10000585-1631628000-1631644200@www.cityofsomerset.com
SUMMARY:COVID-19 vaccine clinic
DESCRIPTION:The City of Somerset and Healthy Somerset are hosting a free COVID-19 vaccine clinic in partnership with the Lake Cumberland District Health Department (LCDHD). \nLCDHD will set up its mobile unit at the Lake Cumberland Farmers Market on East Mt. Vernon Street downtown. Appointments are not necessary — anyone wishing to receive the vaccine can come to the farmers’ market during that time window. LCDHD will administer the one-shot Johnson & Johnson vaccine at the clinic.
URL:https://www.cityofsomerset.com/event/covid-19-vaccine-clinic/2021-09-14/
LOCATION:Citizens National Bank Pavilion\, 401 E. Mt. Vernon St.\, Somerset\, 42501
CATEGORIES:CNB Pavilion
ATTACH;FMTTYPE=image/png:https://www.cityofsomerset.com/wp-content/uploads/2021/09/COVID-vaccine-clinic-Twitter.png
END:VEVENT
BEGIN:VEVENT
DTSTART;TZID=America/New_York:20210915T143000
DTEND;TZID=America/New_York:20210915T210000
DTSTAMP:20260419T171531
CREATED:20210804T181719Z
LAST-MODIFIED:20210804T181719Z
UID:10000734-1631716200-1631739600@www.cityofsomerset.com
SUMMARY:Pavilion Reserved: Private Event
DESCRIPTION:
URL:https://www.cityofsomerset.com/event/pavilion-reserved-private-event-11/
LOCATION:Citizens National Bank Pavilion\, 401 E. Mt. Vernon St.\, Somerset\, 42501
CATEGORIES:CNB Pavilion
ATTACH;FMTTYPE=image/jpeg:https://www.cityofsomerset.com/wp-content/uploads/2021/05/LCFM-building-web-2000.jpg
END:VEVENT
BEGIN:VEVENT
DTSTART;TZID=America/New_York:20210918T080000
DTEND;TZID=America/New_York:20210918T140000
DTSTAMP:20260419T171531
CREATED:20210503T145936Z
LAST-MODIFIED:20210625T132510Z
UID:10000671-1631952000-1631973600@www.cityofsomerset.com
SUMMARY:Market Open
DESCRIPTION:The Lake Cumberland Farmers Market at Citizens National Bank Pavilion is a community gathering place dedicated to supporting local farmers\, producers\, and artisans by providing a marketing connection to area consumers. We are committed to promoting environmental and economic sustainability. \nLocated in downtown Somerset on East Mt. Vernon Street across from the Energy Center\, the Citizens National Bank Pavilion is a new facility that will allow vendors to set up indoors or outdoors throughout the year. It will accommodate up to 50 vendors\, and those vendors will have the option to be open daily throughout the year. Patrons will find everything from produce and flowers\, to meat\, cheese\, wine\, soaps\, and even a limited selection of crafts.
URL:https://www.cityofsomerset.com/event/market-open/2021-09-18/
LOCATION:Citizens National Bank Pavilion\, 401 E. Mt. Vernon St.\, Somerset\, 42501
CATEGORIES:CNB Pavilion
ATTACH;FMTTYPE=image/jpeg:https://www.cityofsomerset.com/wp-content/uploads/2021/05/Market-aerial-2000x1200-1.jpg
ORGANIZER;CN="Lake Cumberland Farmers Market":MAILTO:jcarroll@cityofsomerset.com
END:VEVENT
BEGIN:VEVENT
DTSTART;TZID=America/New_York:20210919T130000
DTEND;TZID=America/New_York:20210919T170000
DTSTAMP:20260419T171531
CREATED:20210818T200559Z
LAST-MODIFIED:20210818T200559Z
UID:10000562-1632056400-1632070800@www.cityofsomerset.com
SUMMARY:Pavilion Reserved: Private Event
DESCRIPTION:
URL:https://www.cityofsomerset.com/event/pavilion-reserved-private-event-21/
LOCATION:Citizens National Bank Pavilion\, 401 E. Mt. Vernon St.\, Somerset\, 42501
CATEGORIES:CNB Pavilion
ATTACH;FMTTYPE=image/jpeg:https://www.cityofsomerset.com/wp-content/uploads/2021/05/LCFM-building-web-2000.jpg
END:VEVENT
BEGIN:VEVENT
DTSTART;TZID=America/New_York:20210925T080000
DTEND;TZID=America/New_York:20210925T140000
DTSTAMP:20260419T171531
CREATED:20210503T145936Z
LAST-MODIFIED:20210625T132510Z
UID:10000672-1632556800-1632578400@www.cityofsomerset.com
SUMMARY:Market Open
DESCRIPTION:The Lake Cumberland Farmers Market at Citizens National Bank Pavilion is a community gathering place dedicated to supporting local farmers\, producers\, and artisans by providing a marketing connection to area consumers. We are committed to promoting environmental and economic sustainability. \nLocated in downtown Somerset on East Mt. Vernon Street across from the Energy Center\, the Citizens National Bank Pavilion is a new facility that will allow vendors to set up indoors or outdoors throughout the year. It will accommodate up to 50 vendors\, and those vendors will have the option to be open daily throughout the year. Patrons will find everything from produce and flowers\, to meat\, cheese\, wine\, soaps\, and even a limited selection of crafts.
URL:https://www.cityofsomerset.com/event/market-open/2021-09-25/
LOCATION:Citizens National Bank Pavilion\, 401 E. Mt. Vernon St.\, Somerset\, 42501
CATEGORIES:CNB Pavilion
ATTACH;FMTTYPE=image/jpeg:https://www.cityofsomerset.com/wp-content/uploads/2021/05/Market-aerial-2000x1200-1.jpg
ORGANIZER;CN="Lake Cumberland Farmers Market":MAILTO:jcarroll@cityofsomerset.com
END:VEVENT
BEGIN:VEVENT
DTSTART;TZID=America/New_York:20210925T160000
DTEND;TZID=America/New_York:20210925T220000
DTSTAMP:20260419T171531
CREATED:20210818T200808Z
LAST-MODIFIED:20210818T200808Z
UID:10000563-1632585600-1632607200@www.cityofsomerset.com
SUMMARY:Pavilion Reserved: Private Event
DESCRIPTION:
URL:https://www.cityofsomerset.com/event/pavilion-reserved-private-event-22/
LOCATION:Citizens National Bank Pavilion\, 401 E. Mt. Vernon St.\, Somerset\, 42501
CATEGORIES:CNB Pavilion
ATTACH;FMTTYPE=image/jpeg:https://www.cityofsomerset.com/wp-content/uploads/2021/05/LCFM-building-web-2000.jpg
END:VEVENT
BEGIN:VEVENT
DTSTART;TZID=America/New_York:20210926T130000
DTEND;TZID=America/New_York:20210926T170000
DTSTAMP:20260419T171531
CREATED:20210824T174249Z
LAST-MODIFIED:20210824T174249Z
UID:10000584-1632661200-1632675600@www.cityofsomerset.com
SUMMARY:Pavilion Reserved: Private Event
DESCRIPTION:
URL:https://www.cityofsomerset.com/event/pavilion-reserved-private-event-12/
LOCATION:Citizens National Bank Pavilion\, 401 E. Mt. Vernon St.\, Somerset\, 42501
CATEGORIES:CNB Pavilion
ATTACH;FMTTYPE=image/jpeg:https://www.cityofsomerset.com/wp-content/uploads/2021/05/LCFM-building-web-2000.jpg
END:VEVENT
END:VCALENDAR