BEGIN:VCALENDAR
VERSION:2.0
PRODID:-//City of Somerset, Kentucky - ECPv6.15.20//NONSGML v1.0//EN
CALSCALE:GREGORIAN
METHOD:PUBLISH
X-WR-CALNAME:City of Somerset, Kentucky
X-ORIGINAL-URL:https://www.cityofsomerset.com
X-WR-CALDESC:Events for City of Somerset, Kentucky
REFRESH-INTERVAL;VALUE=DURATION:PT1H
X-Robots-Tag:noindex
X-PUBLISHED-TTL:PT1H
BEGIN:VTIMEZONE
TZID:America/New_York
BEGIN:DAYLIGHT
TZOFFSETFROM:-0500
TZOFFSETTO:-0400
TZNAME:EDT
DTSTART:20210314T070000
END:DAYLIGHT
BEGIN:STANDARD
TZOFFSETFROM:-0400
TZOFFSETTO:-0500
TZNAME:EST
DTSTART:20211107T060000
END:STANDARD
BEGIN:DAYLIGHT
TZOFFSETFROM:-0500
TZOFFSETTO:-0400
TZNAME:EDT
DTSTART:20220313T070000
END:DAYLIGHT
BEGIN:STANDARD
TZOFFSETFROM:-0400
TZOFFSETTO:-0500
TZNAME:EST
DTSTART:20221106T060000
END:STANDARD
BEGIN:DAYLIGHT
TZOFFSETFROM:-0500
TZOFFSETTO:-0400
TZNAME:EDT
DTSTART:20230312T070000
END:DAYLIGHT
BEGIN:STANDARD
TZOFFSETFROM:-0400
TZOFFSETTO:-0500
TZNAME:EST
DTSTART:20231105T060000
END:STANDARD
END:VTIMEZONE
BEGIN:VEVENT
DTSTART;TZID=America/New_York:20220130T130000
DTEND;TZID=America/New_York:20220130T160000
DTSTAMP:20260419T230227
CREATED:20220118T195830Z
LAST-MODIFIED:20220118T195830Z
UID:10000824-1643547600-1643558400@www.cityofsomerset.com
SUMMARY:Pavilion Reserved: Private Event
DESCRIPTION:
URL:https://www.cityofsomerset.com/event/pavilion-reserved-private-event-69/
LOCATION:Citizens National Bank Pavilion\, 401 E. Mt. Vernon St.\, Somerset\, 42501
CATEGORIES:CNB Pavilion
ATTACH;FMTTYPE=image/jpeg:https://www.cityofsomerset.com/wp-content/uploads/2021/05/Sign-IMG_5573.jpg
END:VEVENT
BEGIN:VEVENT
DTSTART;TZID=America/New_York:20220131T180000
DTEND;TZID=America/New_York:20220131T220000
DTSTAMP:20260419T230227
CREATED:20210912T174654Z
LAST-MODIFIED:20220118T200415Z
UID:10000758-1643652000-1643666400@www.cityofsomerset.com
SUMMARY:Rook Tournament
DESCRIPTION:
URL:https://www.cityofsomerset.com/event/rook-tournament/2022-01-31/
LOCATION:Citizens National Bank Pavilion\, 401 E. Mt. Vernon St.\, Somerset\, 42501
CATEGORIES:CNB Pavilion
END:VEVENT
BEGIN:VEVENT
DTSTART;TZID=America/New_York:20220203T183000
DTEND;TZID=America/New_York:20220203T210000
DTSTAMP:20260419T230227
CREATED:20210823T201309Z
LAST-MODIFIED:20210823T201309Z
UID:10000578-1643913000-1643922000@www.cityofsomerset.com
SUMMARY:Cornhole League
DESCRIPTION:
URL:https://www.cityofsomerset.com/event/cornhole-league/2022-02-03/
LOCATION:Citizens National Bank Pavilion\, 401 E. Mt. Vernon St.\, Somerset\, 42501
CATEGORIES:CNB Pavilion
ATTACH;FMTTYPE=image/jpeg:https://www.cityofsomerset.com/wp-content/uploads/2021/08/Cornhole-shutterstock_668982058.jpg
ORGANIZER;CN="Lake Cumberland Farmers Market":MAILTO:jcarroll@cityofsomerset.com
END:VEVENT
BEGIN:VEVENT
DTSTART;TZID=America/New_York:20220205T140000
DTEND;TZID=America/New_York:20220205T170000
DTSTAMP:20260419T230227
CREATED:20211223T165724Z
LAST-MODIFIED:20211223T165724Z
UID:10000801-1644069600-1644080400@www.cityofsomerset.com
SUMMARY:Pavilion Reserved: Private Event
DESCRIPTION:
URL:https://www.cityofsomerset.com/event/pavilion-reserved-private-event-61/
LOCATION:Citizens National Bank Pavilion\, 401 E. Mt. Vernon St.\, Somerset\, 42501
CATEGORIES:CNB Pavilion
ATTACH;FMTTYPE=image/jpeg:https://www.cityofsomerset.com/wp-content/uploads/2021/05/Sign-IMG_5573.jpg
END:VEVENT
BEGIN:VEVENT
DTSTART;TZID=America/New_York:20220206T143000
DTEND;TZID=America/New_York:20220206T173000
DTSTAMP:20260419T230227
CREATED:20220119T195148Z
LAST-MODIFIED:20220119T195148Z
UID:10000826-1644157800-1644168600@www.cityofsomerset.com
SUMMARY:Pavilion Reserved: Private Event
DESCRIPTION:
URL:https://www.cityofsomerset.com/event/pavilion-reserved-private-event-71/
LOCATION:Citizens National Bank Pavilion\, 401 E. Mt. Vernon St.\, Somerset\, 42501
CATEGORIES:CNB Pavilion
ATTACH;FMTTYPE=image/jpeg:https://www.cityofsomerset.com/wp-content/uploads/2021/05/Sign-IMG_5573.jpg
END:VEVENT
BEGIN:VEVENT
DTSTART;TZID=America/New_York:20220207T180000
DTEND;TZID=America/New_York:20220207T220000
DTSTAMP:20260419T230227
CREATED:20210912T174654Z
LAST-MODIFIED:20220118T200415Z
UID:10000759-1644256800-1644271200@www.cityofsomerset.com
SUMMARY:Rook Tournament
DESCRIPTION:
URL:https://www.cityofsomerset.com/event/rook-tournament/2022-02-07/
LOCATION:Citizens National Bank Pavilion\, 401 E. Mt. Vernon St.\, Somerset\, 42501
CATEGORIES:CNB Pavilion
END:VEVENT
BEGIN:VEVENT
DTSTART;TZID=America/New_York:20220210T183000
DTEND;TZID=America/New_York:20220210T210000
DTSTAMP:20260419T230227
CREATED:20210823T201309Z
LAST-MODIFIED:20210823T201309Z
UID:10000579-1644517800-1644526800@www.cityofsomerset.com
SUMMARY:Cornhole League
DESCRIPTION:
URL:https://www.cityofsomerset.com/event/cornhole-league/2022-02-10/
LOCATION:Citizens National Bank Pavilion\, 401 E. Mt. Vernon St.\, Somerset\, 42501
CATEGORIES:CNB Pavilion
ATTACH;FMTTYPE=image/jpeg:https://www.cityofsomerset.com/wp-content/uploads/2021/08/Cornhole-shutterstock_668982058.jpg
ORGANIZER;CN="Lake Cumberland Farmers Market":MAILTO:jcarroll@cityofsomerset.com
END:VEVENT
BEGIN:VEVENT
DTSTART;TZID=America/New_York:20220211T170000
DTEND;TZID=America/New_York:20220211T230000
DTSTAMP:20260419T230227
CREATED:20220119T195300Z
LAST-MODIFIED:20220119T195300Z
UID:10000828-1644598800-1644620400@www.cityofsomerset.com
SUMMARY:Pavilion Reserved: Private Event
DESCRIPTION:
URL:https://www.cityofsomerset.com/event/pavilion-reserved-private-event-72/
LOCATION:Citizens National Bank Pavilion\, 401 E. Mt. Vernon St.\, Somerset\, 42501
CATEGORIES:CNB Pavilion
ATTACH;FMTTYPE=image/jpeg:https://www.cityofsomerset.com/wp-content/uploads/2021/05/Sign-IMG_5573.jpg
END:VEVENT
BEGIN:VEVENT
DTSTART;TZID=America/New_York:20220212T120000
DTEND;TZID=America/New_York:20220212T170000
DTSTAMP:20260419T230227
CREATED:20211122T162431Z
LAST-MODIFIED:20211122T162431Z
UID:10000787-1644667200-1644685200@www.cityofsomerset.com
SUMMARY:Pavilion Reserved: Private Event
DESCRIPTION:
URL:https://www.cityofsomerset.com/event/pavilion-reserved-private-event-55/
LOCATION:Citizens National Bank Pavilion\, 401 E. Mt. Vernon St.\, Somerset\, 42501
CATEGORIES:CNB Pavilion
ATTACH;FMTTYPE=image/jpeg:https://www.cityofsomerset.com/wp-content/uploads/2021/05/Sign-IMG_5573.jpg
END:VEVENT
BEGIN:VEVENT
DTSTART;TZID=America/New_York:20220212T170000
DTEND;TZID=America/New_York:20220212T230000
DTSTAMP:20260419T230227
CREATED:20220119T195351Z
LAST-MODIFIED:20220119T195351Z
UID:10000830-1644685200-1644706800@www.cityofsomerset.com
SUMMARY:Pavilion Reserved: Private Event
DESCRIPTION:
URL:https://www.cityofsomerset.com/event/pavilion-reserved-private-event-73/
LOCATION:Citizens National Bank Pavilion\, 401 E. Mt. Vernon St.\, Somerset\, 42501
CATEGORIES:CNB Pavilion
ATTACH;FMTTYPE=image/jpeg:https://www.cityofsomerset.com/wp-content/uploads/2021/05/Sign-IMG_5573.jpg
END:VEVENT
BEGIN:VEVENT
DTSTART;TZID=America/New_York:20220213T130000
DTEND;TZID=America/New_York:20220213T210000
DTSTAMP:20260419T230227
CREATED:20211027T161822Z
LAST-MODIFIED:20211027T161822Z
UID:10000772-1644757200-1644786000@www.cityofsomerset.com
SUMMARY:Pavilion Reserved: Private Event
DESCRIPTION:
URL:https://www.cityofsomerset.com/event/pavilion-reserved-private-event-45/
LOCATION:Citizens National Bank Pavilion\, 401 E. Mt. Vernon St.\, Somerset\, 42501
CATEGORIES:CNB Pavilion
ATTACH;FMTTYPE=image/jpeg:https://www.cityofsomerset.com/wp-content/uploads/2021/05/LCFM-building-web-2000.jpg
END:VEVENT
BEGIN:VEVENT
DTSTART;TZID=America/New_York:20220217T183000
DTEND;TZID=America/New_York:20220217T210000
DTSTAMP:20260419T230227
CREATED:20210823T201309Z
LAST-MODIFIED:20210823T201309Z
UID:10000580-1645122600-1645131600@www.cityofsomerset.com
SUMMARY:Cornhole League
DESCRIPTION:
URL:https://www.cityofsomerset.com/event/cornhole-league/2022-02-17/
LOCATION:Citizens National Bank Pavilion\, 401 E. Mt. Vernon St.\, Somerset\, 42501
CATEGORIES:CNB Pavilion
ATTACH;FMTTYPE=image/jpeg:https://www.cityofsomerset.com/wp-content/uploads/2021/08/Cornhole-shutterstock_668982058.jpg
ORGANIZER;CN="Lake Cumberland Farmers Market":MAILTO:jcarroll@cityofsomerset.com
END:VEVENT
BEGIN:VEVENT
DTSTART;TZID=America/New_York:20220218T180000
DTEND;TZID=America/New_York:20220218T210000
DTSTAMP:20260419T230227
CREATED:20220104T184351Z
LAST-MODIFIED:20220118T200041Z
UID:10000803-1645207200-1645218000@www.cityofsomerset.com
SUMMARY:Pavilion Reserved: Private Event
DESCRIPTION:
URL:https://www.cityofsomerset.com/event/pavilion-reserved-private-event-62/
LOCATION:Citizens National Bank Pavilion\, 401 E. Mt. Vernon St.\, Somerset\, 42501
CATEGORIES:CNB Pavilion
ATTACH;FMTTYPE=image/jpeg:https://www.cityofsomerset.com/wp-content/uploads/2021/05/Sign-IMG_5573.jpg
END:VEVENT
BEGIN:VEVENT
DTSTART;TZID=America/New_York:20220219T140000
DTEND;TZID=America/New_York:20220219T200000
DTSTAMP:20260419T230227
CREATED:20211027T161920Z
LAST-MODIFIED:20220118T200240Z
UID:10000775-1645279200-1645300800@www.cityofsomerset.com
SUMMARY:Pavilion Reserved: Private Event
DESCRIPTION:
URL:https://www.cityofsomerset.com/event/pavilion-reserved-private-event-46/
LOCATION:Citizens National Bank Pavilion\, 401 E. Mt. Vernon St.\, Somerset\, 42501
CATEGORIES:CNB Pavilion
ATTACH;FMTTYPE=image/jpeg:https://www.cityofsomerset.com/wp-content/uploads/2021/05/LCFM-building-web-2000.jpg
END:VEVENT
BEGIN:VEVENT
DTSTART;TZID=America/New_York:20220220T130000
DTEND;TZID=America/New_York:20220220T170000
DTSTAMP:20260419T230227
CREATED:20220104T184539Z
LAST-MODIFIED:20220118T200207Z
UID:10000806-1645362000-1645376400@www.cityofsomerset.com
SUMMARY:Pavilion Reserved: Private Event
DESCRIPTION:
URL:https://www.cityofsomerset.com/event/pavilion-reserved-private-event-63/
LOCATION:Citizens National Bank Pavilion\, 401 E. Mt. Vernon St.\, Somerset\, 42501
CATEGORIES:CNB Pavilion
ATTACH;FMTTYPE=image/jpeg:https://www.cityofsomerset.com/wp-content/uploads/2021/05/Sign-IMG_5573.jpg
END:VEVENT
BEGIN:VEVENT
DTSTART;TZID=America/New_York:20220221T130000
DTEND;TZID=America/New_York:20220221T170000
DTSTAMP:20260419T230227
CREATED:20220221T152944Z
LAST-MODIFIED:20220221T152944Z
UID:10000843-1645448400-1645462800@www.cityofsomerset.com
SUMMARY:Pavilion Reserved: Private Event
DESCRIPTION:
URL:https://www.cityofsomerset.com/event/pavilion-reserved-private-event-81/
LOCATION:Citizens National Bank Pavilion\, 401 E. Mt. Vernon St.\, Somerset\, 42501
CATEGORIES:CNB Pavilion
ATTACH;FMTTYPE=image/jpeg:https://www.cityofsomerset.com/wp-content/uploads/2021/05/Sign-IMG_5573.jpg
END:VEVENT
BEGIN:VEVENT
DTSTART;TZID=America/New_York:20220222T150000
DTEND;TZID=America/New_York:20220222T220000
DTSTAMP:20260419T230227
CREATED:20220221T153101Z
LAST-MODIFIED:20220221T164635Z
UID:10000846-1645542000-1645567200@www.cityofsomerset.com
SUMMARY:Pavilion Reserved: Private Event
DESCRIPTION:
URL:https://www.cityofsomerset.com/event/pavilion-reserved-private-event-82/
LOCATION:Citizens National Bank Pavilion\, 401 E. Mt. Vernon St.\, Somerset\, 42501
CATEGORIES:CNB Pavilion
ATTACH;FMTTYPE=image/jpeg:https://www.cityofsomerset.com/wp-content/uploads/2021/05/Sign-IMG_5573.jpg
END:VEVENT
BEGIN:VEVENT
DTSTART;TZID=America/New_York:20220224T183000
DTEND;TZID=America/New_York:20220224T210000
DTSTAMP:20260419T230227
CREATED:20210823T201309Z
LAST-MODIFIED:20210823T201309Z
UID:10000581-1645727400-1645736400@www.cityofsomerset.com
SUMMARY:Cornhole League
DESCRIPTION:
URL:https://www.cityofsomerset.com/event/cornhole-league/2022-02-24/
LOCATION:Citizens National Bank Pavilion\, 401 E. Mt. Vernon St.\, Somerset\, 42501
CATEGORIES:CNB Pavilion
ATTACH;FMTTYPE=image/jpeg:https://www.cityofsomerset.com/wp-content/uploads/2021/08/Cornhole-shutterstock_668982058.jpg
ORGANIZER;CN="Lake Cumberland Farmers Market":MAILTO:jcarroll@cityofsomerset.com
END:VEVENT
BEGIN:VEVENT
DTSTART;TZID=America/New_York:20220225T150000
DTEND;TZID=America/New_York:20220225T210000
DTSTAMP:20260419T230227
CREATED:20220119T195510Z
LAST-MODIFIED:20220119T195510Z
UID:10000832-1645801200-1645822800@www.cityofsomerset.com
SUMMARY:Pavilion Reserved: Private Event
DESCRIPTION:
URL:https://www.cityofsomerset.com/event/pavilion-reserved-private-event-74/
LOCATION:Citizens National Bank Pavilion\, 401 E. Mt. Vernon St.\, Somerset\, 42501
CATEGORIES:CNB Pavilion
ATTACH;FMTTYPE=image/jpeg:https://www.cityofsomerset.com/wp-content/uploads/2021/05/Sign-IMG_5573.jpg
END:VEVENT
BEGIN:VEVENT
DTSTART;TZID=America/New_York:20220226T180000
DTEND;TZID=America/New_York:20220226T220000
DTSTAMP:20260419T230227
CREATED:20220119T195551Z
LAST-MODIFIED:20220119T195551Z
UID:10000834-1645898400-1645912800@www.cityofsomerset.com
SUMMARY:Pavilion Reserved: Private Event
DESCRIPTION:
URL:https://www.cityofsomerset.com/event/pavilion-reserved-private-event-75/
LOCATION:Citizens National Bank Pavilion\, 401 E. Mt. Vernon St.\, Somerset\, 42501
CATEGORIES:CNB Pavilion
ATTACH;FMTTYPE=image/jpeg:https://www.cityofsomerset.com/wp-content/uploads/2021/05/Sign-IMG_5573.jpg
END:VEVENT
BEGIN:VEVENT
DTSTART;TZID=America/New_York:20220227T140000
DTEND;TZID=America/New_York:20220227T190000
DTSTAMP:20260419T230227
CREATED:20220104T184719Z
LAST-MODIFIED:20220118T200548Z
UID:10000808-1645970400-1645988400@www.cityofsomerset.com
SUMMARY:Pavilion Reserved: Private Event
DESCRIPTION:
URL:https://www.cityofsomerset.com/event/pavilion-reserved-private-event-64/
LOCATION:Citizens National Bank Pavilion\, 401 E. Mt. Vernon St.\, Somerset\, 42501
CATEGORIES:CNB Pavilion
ATTACH;FMTTYPE=image/jpeg:https://www.cityofsomerset.com/wp-content/uploads/2021/05/Sign-IMG_5573.jpg
END:VEVENT
BEGIN:VEVENT
DTSTART;TZID=America/New_York:20220303T183000
DTEND;TZID=America/New_York:20220303T210000
DTSTAMP:20260419T230227
CREATED:20210823T201309Z
LAST-MODIFIED:20210823T201309Z
UID:10000582-1646332200-1646341200@www.cityofsomerset.com
SUMMARY:Cornhole League
DESCRIPTION:
URL:https://www.cityofsomerset.com/event/cornhole-league/2022-03-03/
LOCATION:Citizens National Bank Pavilion\, 401 E. Mt. Vernon St.\, Somerset\, 42501
CATEGORIES:CNB Pavilion
ATTACH;FMTTYPE=image/jpeg:https://www.cityofsomerset.com/wp-content/uploads/2021/08/Cornhole-shutterstock_668982058.jpg
ORGANIZER;CN="Lake Cumberland Farmers Market":MAILTO:jcarroll@cityofsomerset.com
END:VEVENT
BEGIN:VEVENT
DTSTART;TZID=America/New_York:20220305T130000
DTEND;TZID=America/New_York:20220305T170000
DTSTAMP:20260419T230227
CREATED:20220119T195641Z
LAST-MODIFIED:20220119T195641Z
UID:10000836-1646485200-1646499600@www.cityofsomerset.com
SUMMARY:Pavilion Reserved: Private Event
DESCRIPTION:
URL:https://www.cityofsomerset.com/event/pavilion-reserved-private-event-76/
LOCATION:Citizens National Bank Pavilion\, 401 E. Mt. Vernon St.\, Somerset\, 42501
CATEGORIES:CNB Pavilion
ATTACH;FMTTYPE=image/jpeg:https://www.cityofsomerset.com/wp-content/uploads/2021/05/Sign-IMG_5573.jpg
END:VEVENT
BEGIN:VEVENT
DTSTART;TZID=America/New_York:20220308T150000
DTEND;TZID=America/New_York:20220308T220000
DTSTAMP:20260419T230227
CREATED:20220221T165119Z
LAST-MODIFIED:20220221T165119Z
UID:10000891-1646751600-1646776800@www.cityofsomerset.com
SUMMARY:Pavilion Reserved: Private Event
DESCRIPTION:
URL:https://www.cityofsomerset.com/event/pavilion-reserved-private-event-83/
LOCATION:Citizens National Bank Pavilion\, 401 E. Mt. Vernon St.\, Somerset\, 42501
CATEGORIES:CNB Pavilion
ATTACH;FMTTYPE=image/jpeg:https://www.cityofsomerset.com/wp-content/uploads/2021/05/Sign-IMG_5573.jpg
END:VEVENT
BEGIN:VEVENT
DTSTART;TZID=America/New_York:20220310T183000
DTEND;TZID=America/New_York:20220310T210000
DTSTAMP:20260419T230227
CREATED:20210823T201309Z
LAST-MODIFIED:20210823T201309Z
UID:10000583-1646937000-1646946000@www.cityofsomerset.com
SUMMARY:Cornhole League
DESCRIPTION:
URL:https://www.cityofsomerset.com/event/cornhole-league/2022-03-10/
LOCATION:Citizens National Bank Pavilion\, 401 E. Mt. Vernon St.\, Somerset\, 42501
CATEGORIES:CNB Pavilion
ATTACH;FMTTYPE=image/jpeg:https://www.cityofsomerset.com/wp-content/uploads/2021/08/Cornhole-shutterstock_668982058.jpg
ORGANIZER;CN="Lake Cumberland Farmers Market":MAILTO:jcarroll@cityofsomerset.com
END:VEVENT
BEGIN:VEVENT
DTSTART;TZID=America/New_York:20220312T120000
DTEND;TZID=America/New_York:20220312T163000
DTSTAMP:20260419T230227
CREATED:20220104T184837Z
LAST-MODIFIED:20220118T200747Z
UID:10000809-1647086400-1647102600@www.cityofsomerset.com
SUMMARY:Pavilion Reserved: Private Event
DESCRIPTION:
URL:https://www.cityofsomerset.com/event/pavilion-reserved-private-event-65/
LOCATION:Citizens National Bank Pavilion\, 401 E. Mt. Vernon St.\, Somerset\, 42501
CATEGORIES:CNB Pavilion
ATTACH;FMTTYPE=image/jpeg:https://www.cityofsomerset.com/wp-content/uploads/2021/05/Sign-IMG_5573.jpg
END:VEVENT
BEGIN:VEVENT
DTSTART;TZID=America/New_York:20220312T170000
DTEND;TZID=America/New_York:20220312T210000
DTSTAMP:20260419T230227
CREATED:20220118T200831Z
LAST-MODIFIED:20220118T200831Z
UID:10000825-1647104400-1647118800@www.cityofsomerset.com
SUMMARY:Pavilion Reserved: Private Event
DESCRIPTION:
URL:https://www.cityofsomerset.com/event/pavilion-reserved-private-event-70/
LOCATION:Citizens National Bank Pavilion\, 401 E. Mt. Vernon St.\, Somerset\, 42501
CATEGORIES:CNB Pavilion
ATTACH;FMTTYPE=image/jpeg:https://www.cityofsomerset.com/wp-content/uploads/2021/05/Sign-IMG_5573.jpg
END:VEVENT
BEGIN:VEVENT
DTSTART;TZID=America/New_York:20220313T140000
DTEND;TZID=America/New_York:20220313T170000
DTSTAMP:20260419T230227
CREATED:20220119T195755Z
LAST-MODIFIED:20220119T195755Z
UID:10000838-1647180000-1647190800@www.cityofsomerset.com
SUMMARY:Pavilion Reserved: Private Event
DESCRIPTION:
URL:https://www.cityofsomerset.com/event/pavilion-reserved-private-event-77/
LOCATION:Citizens National Bank Pavilion\, 401 E. Mt. Vernon St.\, Somerset\, 42501
CATEGORIES:CNB Pavilion
ATTACH;FMTTYPE=image/jpeg:https://www.cityofsomerset.com/wp-content/uploads/2021/05/Sign-IMG_5573.jpg
END:VEVENT
BEGIN:VEVENT
DTSTART;TZID=America/New_York:20220314T180000
DTEND;TZID=America/New_York:20220314T233000
DTSTAMP:20260419T230227
CREATED:20220221T164329Z
LAST-MODIFIED:20220824T145554Z
UID:10000850-1647280800-1647300600@www.cityofsomerset.com
SUMMARY:Rook League
DESCRIPTION:
URL:https://www.cityofsomerset.com/event/rook-league/2022-03-14/
LOCATION:Citizens National Bank Pavilion\, 401 E. Mt. Vernon St.\, Somerset\, 42501
CATEGORIES:CNB Pavilion
ATTACH;FMTTYPE=image/jpeg:https://www.cityofsomerset.com/wp-content/uploads/2022/02/shutterstock_1067049848.jpg
END:VEVENT
BEGIN:VEVENT
DTSTART;TZID=America/New_York:20220319T140000
DTEND;TZID=America/New_York:20220319T180000
DTSTAMP:20260419T230227
CREATED:20220119T195859Z
LAST-MODIFIED:20220119T195859Z
UID:10000840-1647698400-1647712800@www.cityofsomerset.com
SUMMARY:Pavilion Reserved: Private Event
DESCRIPTION:
URL:https://www.cityofsomerset.com/event/pavilion-reserved-private-event-78/
LOCATION:Citizens National Bank Pavilion\, 401 E. Mt. Vernon St.\, Somerset\, 42501
CATEGORIES:CNB Pavilion
ATTACH;FMTTYPE=image/jpeg:https://www.cityofsomerset.com/wp-content/uploads/2021/05/Sign-IMG_5573.jpg
END:VEVENT
END:VCALENDAR