BEGIN:VCALENDAR
VERSION:2.0
PRODID:-//City of Somerset, Kentucky - ECPv6.15.20//NONSGML v1.0//EN
CALSCALE:GREGORIAN
METHOD:PUBLISH
X-ORIGINAL-URL:https://www.cityofsomerset.com
X-WR-CALDESC:Events for City of Somerset, Kentucky
REFRESH-INTERVAL;VALUE=DURATION:PT1H
X-Robots-Tag:noindex
X-PUBLISHED-TTL:PT1H
BEGIN:VTIMEZONE
TZID:America/New_York
BEGIN:DAYLIGHT
TZOFFSETFROM:-0500
TZOFFSETTO:-0400
TZNAME:EDT
DTSTART:20230312T070000
END:DAYLIGHT
BEGIN:STANDARD
TZOFFSETFROM:-0400
TZOFFSETTO:-0500
TZNAME:EST
DTSTART:20231105T060000
END:STANDARD
BEGIN:DAYLIGHT
TZOFFSETFROM:-0500
TZOFFSETTO:-0400
TZNAME:EDT
DTSTART:20240310T070000
END:DAYLIGHT
BEGIN:STANDARD
TZOFFSETFROM:-0400
TZOFFSETTO:-0500
TZNAME:EST
DTSTART:20241103T060000
END:STANDARD
BEGIN:DAYLIGHT
TZOFFSETFROM:-0500
TZOFFSETTO:-0400
TZNAME:EDT
DTSTART:20250309T070000
END:DAYLIGHT
BEGIN:STANDARD
TZOFFSETFROM:-0400
TZOFFSETTO:-0500
TZNAME:EST
DTSTART:20251102T060000
END:STANDARD
END:VTIMEZONE
BEGIN:VEVENT
DTSTART;TZID=America/New_York:20240610T180000
DTEND;TZID=America/New_York:20240610T180000
DTSTAMP:20260423T143615
CREATED:20240605T201848Z
LAST-MODIFIED:20240605T201848Z
UID:10000965-1718042400-1718042400@www.cityofsomerset.com
SUMMARY:Somerset City Council Meeting
DESCRIPTION:Somerset City Council meets at 6 p.m. on the second and fourth Mondays of the month in the Energy Center Council Chambers\, 306 E. Mt. Vernon St.\, Somerset. Everyone is welcome. The website copy of the agenda is for general information only. In the event of a conflict between this copy and the actual agenda provided to the media and city council members\, the mailed copy shall prevail. \nAgenda \n\nCall to Order\nPledge of Allegiance\nMoment of Silence\nRoll Call\nMinutes of last meeting\nActing Chief Josh Wesley presented to Council for approval\nSee Somerset/Lake Cumberland Tourism\nCitizen comments\nWastewater Pollutant Amended Ordinance to Conform to KAR 45:100\nResolution –Water Treatment Plant Membrane Filtration Replacement Project Grant\n2nd Reading/New Basil Dental Lab Annexation\n2nd Reading/Pittman Creek Treatment Plant Land Annexation\n2nd Reading/Recovery Housing Ordinance\n1st Reading/ 2024-25 Budget Ordinance\nCity Tax Refund – Rufino Sr. & Valentina Benitez\nCity Tax Refund – Darlene Hendricks Haponik\nHousing Authority board appointment\nCouncil Comments\nAdjournment\n\nDownload PDF Agenda
URL:https://www.cityofsomerset.com/event/somerset-city-council-meeting-3-2024-02-26-9/
LOCATION:Council Chambers\, 306 E Mt. Vernon Street\, Somerset\, KY\, 42501\, United States
CATEGORIES:Government Meeting
ATTACH;FMTTYPE=image/jpeg:https://www.cityofsomerset.com/wp-content/uploads/2021/11/EnergyCenter-scaled.jpg
END:VEVENT
BEGIN:VEVENT
DTSTART;TZID=America/New_York:20240624T180000
DTEND;TZID=America/New_York:20240624T180000
DTSTAMP:20260423T143615
CREATED:20240618T190052Z
LAST-MODIFIED:20240618T190052Z
UID:10000955-1719252000-1719252000@www.cityofsomerset.com
SUMMARY:Somerset City Council Meeting
DESCRIPTION:Somerset City Council meets at 6 p.m. on the second and fourth Mondays of the month in the Energy Center Council Chambers\, 306 E. Mt. Vernon St.\, Somerset. Everyone is welcome. The website copy of the agenda is for general information only. In the event of a conflict between this copy and the actual agenda provided to the media and city council members\, the mailed copy shall prevail. \nAgenda \n\nCall to Order\nPledge of Allegiance\nMoment of Silence\nRoll Call\nMinutes of last meeting\nCitizen comments\n2nd Reading/ 2024-25 Budget Ordinance\n1st Reading/1981 Oak Hill Rd (Dollar General) *ordinance will be provided at First Reading [1]\nCity Tax Refund – Andrew & Jeannie Kovacs\nCity Tax Refund – Donna (North) Tucker\nHousing Authority paid approval by Council\nCouncil Comments\nAdjournment\n\nDownload PDF Agenda 6-24-24 \n[1] This agenda was prepared early due to the Juneteenth holiday\, the ordinance for item 8 will be prepared later in the week and will be emailed.
URL:https://www.cityofsomerset.com/event/somerset-city-council-meeting-3-2024-02-26-10/
LOCATION:Council Chambers\, 306 E Mt. Vernon Street\, Somerset\, KY\, 42501\, United States
CATEGORIES:Government Meeting
ATTACH;FMTTYPE=image/jpeg:https://www.cityofsomerset.com/wp-content/uploads/2021/11/EnergyCenter-scaled.jpg
END:VEVENT
END:VCALENDAR