BEGIN:VCALENDAR
VERSION:2.0
PRODID:-//City of Somerset, Kentucky - ECPv6.15.20//NONSGML v1.0//EN
CALSCALE:GREGORIAN
METHOD:PUBLISH
X-ORIGINAL-URL:https://www.cityofsomerset.com
X-WR-CALDESC:Events for City of Somerset, Kentucky
REFRESH-INTERVAL;VALUE=DURATION:PT1H
X-Robots-Tag:noindex
X-PUBLISHED-TTL:PT1H
BEGIN:VTIMEZONE
TZID:America/New_York
BEGIN:DAYLIGHT
TZOFFSETFROM:-0500
TZOFFSETTO:-0400
TZNAME:EDT
DTSTART:20240310T070000
END:DAYLIGHT
BEGIN:STANDARD
TZOFFSETFROM:-0400
TZOFFSETTO:-0500
TZNAME:EST
DTSTART:20241103T060000
END:STANDARD
BEGIN:DAYLIGHT
TZOFFSETFROM:-0500
TZOFFSETTO:-0400
TZNAME:EDT
DTSTART:20250309T070000
END:DAYLIGHT
BEGIN:STANDARD
TZOFFSETFROM:-0400
TZOFFSETTO:-0500
TZNAME:EST
DTSTART:20251102T060000
END:STANDARD
BEGIN:DAYLIGHT
TZOFFSETFROM:-0500
TZOFFSETTO:-0400
TZNAME:EDT
DTSTART:20260308T070000
END:DAYLIGHT
BEGIN:STANDARD
TZOFFSETFROM:-0400
TZOFFSETTO:-0500
TZNAME:EST
DTSTART:20261101T060000
END:STANDARD
END:VTIMEZONE
BEGIN:VEVENT
DTSTART;TZID=America/New_York:20250811T180000
DTEND;TZID=America/New_York:20250811T180000
DTSTAMP:20260425T120952
CREATED:20241218T162534Z
LAST-MODIFIED:20250806T190029Z
UID:10001207-1754935200-1754935200@www.cityofsomerset.com
SUMMARY:Somerset City Council Meeting
DESCRIPTION:Somerset City Council meets at 6 p.m. on the second and fourth Mondays of the month in the Energy Center Council Chambers\, 306 E. Mt. Vernon St.\, Somerset. Everyone is welcome. The website copy of the agenda is for general information only. In the event of a conflict between this copy and the actual agenda provided to the media and city council members\, the mailed copy shall prevail. \nAgenda \n\nCall to Order\nPledge of Allegiance\nMoment of Silence\nRoll Call\nMinutes of last meeting\n2nd Reading/Zone Designation Undeveloped Property with Parcel ID# 090-9-1-28.3 on Rock Quarry Rd\nCity Tax Refund – Joyce Combs\nCity Tax Refund – Helen Perkins\nCouncil Comments\nAdjournment\n\nDownload PDF Agenda 8-11-25
URL:https://www.cityofsomerset.com/event/somerset-city-council-meeting-19-2/
LOCATION:Council Chambers\, 306 E Mt. Vernon Street\, Somerset\, KY\, 42501\, United States
CATEGORIES:Government Meeting
ATTACH;FMTTYPE=image/jpeg:https://www.cityofsomerset.com/wp-content/uploads/2021/11/EnergyCenter-scaled.jpg
END:VEVENT
BEGIN:VEVENT
DTSTART;TZID=America/New_York:20250825T180000
DTEND;TZID=America/New_York:20250825T180000
DTSTAMP:20260425T120952
CREATED:20241218T162457Z
LAST-MODIFIED:20250820T190548Z
UID:10001209-1756144800-1756144800@www.cityofsomerset.com
SUMMARY:Somerset City Council Meeting
DESCRIPTION:Somerset City Council meets at 6 p.m. on the second and fourth Mondays of the month in the Energy Center Council Chambers\, 306 E. Mt. Vernon St.\, Somerset. Everyone is welcome. The website copy of the agenda is for general information only. In the event of a conflict between this copy and the actual agenda provided to the media and city council members\, the mailed copy shall prevail. \nAgenda \n\nCall to Order\nPledge of Allegiance\nMoment of Silence\nRoll Call\nMinutes of last meeting\nAudra Rogers nomination for planning and zoning\n1st Reading/Setting financial deposit tax rate (Ordinance Document will be ready on Monday)\n1st Reading/Setting ad valorem tangible property tax rate (Ordinance Document will be ready on Monday)\nCity Tax Refund – David Fitzpatrick\nCouncil Comments\nAdjournment\n\nDownload PDF Agenda 8-25-25
URL:https://www.cityofsomerset.com/event/somerset-city-council-meeting-20-2/
LOCATION:Council Chambers\, 306 E Mt. Vernon Street\, Somerset\, KY\, 42501\, United States
CATEGORIES:Government Meeting
ATTACH;FMTTYPE=image/jpeg:https://www.cityofsomerset.com/wp-content/uploads/2021/11/EnergyCenter-scaled.jpg
END:VEVENT
END:VCALENDAR