BEGIN:VCALENDAR
VERSION:2.0
PRODID:-//City of Somerset, Kentucky - ECPv6.15.20//NONSGML v1.0//EN
CALSCALE:GREGORIAN
METHOD:PUBLISH
X-WR-CALNAME:City of Somerset, Kentucky
X-ORIGINAL-URL:https://www.cityofsomerset.com
X-WR-CALDESC:Events for City of Somerset, Kentucky
REFRESH-INTERVAL;VALUE=DURATION:PT1H
X-Robots-Tag:noindex
X-PUBLISHED-TTL:PT1H
BEGIN:VTIMEZONE
TZID:America/New_York
BEGIN:DAYLIGHT
TZOFFSETFROM:-0500
TZOFFSETTO:-0400
TZNAME:EDT
DTSTART:20240310T070000
END:DAYLIGHT
BEGIN:STANDARD
TZOFFSETFROM:-0400
TZOFFSETTO:-0500
TZNAME:EST
DTSTART:20241103T060000
END:STANDARD
BEGIN:DAYLIGHT
TZOFFSETFROM:-0500
TZOFFSETTO:-0400
TZNAME:EDT
DTSTART:20250309T070000
END:DAYLIGHT
BEGIN:STANDARD
TZOFFSETFROM:-0400
TZOFFSETTO:-0500
TZNAME:EST
DTSTART:20251102T060000
END:STANDARD
BEGIN:DAYLIGHT
TZOFFSETFROM:-0500
TZOFFSETTO:-0400
TZNAME:EDT
DTSTART:20260308T070000
END:DAYLIGHT
BEGIN:STANDARD
TZOFFSETFROM:-0400
TZOFFSETTO:-0500
TZNAME:EST
DTSTART:20261101T060000
END:STANDARD
END:VTIMEZONE
BEGIN:VEVENT
DTSTART;TZID=America/New_York:20251110T180000
DTEND;TZID=America/New_York:20251110T180000
DTSTAMP:20260425T064529
CREATED:20241218T162148Z
LAST-MODIFIED:20251105T195453Z
UID:10001219-1762797600-1762797600@www.cityofsomerset.com
SUMMARY:Somerset City Council Meeting
DESCRIPTION:Somerset City Council meets at 6 p.m. on the second and fourth Mondays of the month in the Energy Center Council Chambers\, 306 E. Mt. Vernon St.\, Somerset. Everyone is welcome. The website copy of the agenda is for general information only. In the event of a conflict between this copy and the actual agenda provided to the media and city council members\, the mailed copy shall prevail. \nAgenda \n\nCall to Order\nPledge of Allegiance\nMoment of Silence\nRoll Call\nMinutes of last meeting\nJosh Sims recognition\n2nd Reading/Notice of a Proposed Zoning Ordinance with no recommendation from Planning and Zoning/MB Properties/Tucker Lane/049-7-2-78\n2nd Reading/Notice of Proposed Zoning Ordinance accepting the denial of a request for map amendment/Epperson Electric/206 Speedway Drive\n1st Reading/Zoning Ordinance/Undeveloped Property on 461\n1st Reading/Zoning Ordinance/Undeveloped Property on Mercury Blvd\n1st Reading/Annexation/4700 S Hwy 27 (Ordinance text will be ready on Monday)\n1st Reading/Annexation/Utilities easement connecting 4700 S Hwy 27 to City (Ordinance text will be ready on Monday)\nCity Tax Refund – Joan Lester Wilson IRR Fam TR U/A DTD 12/15/2022\nCouncil Comments\nAdjournment\n\nDownload PDF Agenda 11-10-25
URL:https://www.cityofsomerset.com/event/somerset-city-council-meeting-25-2/
LOCATION:Council Chambers\, 306 E Mt. Vernon Street\, Somerset\, KY\, 42501\, United States
CATEGORIES:Government Meeting
ATTACH;FMTTYPE=image/jpeg:https://www.cityofsomerset.com/wp-content/uploads/2021/11/EnergyCenter-scaled.jpg
END:VEVENT
BEGIN:VEVENT
DTSTART;TZID=America/New_York:20251124T180000
DTEND;TZID=America/New_York:20251124T180000
DTSTAMP:20260425T064529
CREATED:20241218T162113Z
LAST-MODIFIED:20251119T143737Z
UID:10001221-1764007200-1764007200@www.cityofsomerset.com
SUMMARY:CANCELED - Somerset City Council Meeting
DESCRIPTION:Somerset City Council meets at 6 p.m. on the second and fourth Mondays of the month in the Energy Center Council Chambers\, 306 E. Mt. Vernon St.\, Somerset. Everyone is welcome. The website copy of the agenda is for general information only. In the event of a conflict between this copy and the actual agenda provided to the media and city council members\, the mailed copy shall prevail. \nNOTICE OF CITY COUNCIL MEETING CANCELLATION \nThe Somerset City Council will NOT meet on Monday November 24\, 2025\, due to the Thanksgiving holiday. \nDownload PDF Notice of Cancellation 11-24-25
URL:https://www.cityofsomerset.com/event/somerset-city-council-meeting-26-2/
LOCATION:Council Chambers\, 306 E Mt. Vernon Street\, Somerset\, KY\, 42501\, United States
CATEGORIES:Government Meeting
ATTACH;FMTTYPE=image/jpeg:https://www.cityofsomerset.com/wp-content/uploads/2021/11/EnergyCenter-scaled.jpg
END:VEVENT
END:VCALENDAR